BEGIN:VCALENDAR
VERSION:2.0
PRODID:-//Groupe Li Rondenia - Fully - ECPv4.9.12//NONSGML v1.0//EN
CALSCALE:GREGORIAN
METHOD:PUBLISH
X-WR-CALNAME:Groupe Li Rondenia - Fully
X-ORIGINAL-URL:https://groupe-lirondenia.ch
X-WR-CALDESC:Évènements pour Groupe Li Rondenia - Fully
BEGIN:VTIMEZONE
TZID:Europe/Zurich
BEGIN:DAYLIGHT
TZOFFSETFROM:+0100
TZOFFSETTO:+0200
TZNAME:CEST
DTSTART:20230326T010000
END:DAYLIGHT
BEGIN:STANDARD
TZOFFSETFROM:+0200
TZOFFSETTO:+0100
TZNAME:CET
DTSTART:20231029T010000
END:STANDARD
END:VTIMEZONE
BEGIN:VEVENT
DTSTART;TZID=Europe/Zurich:20230204T103000
DTEND;TZID=Europe/Zurich:20230204T133000
DTSTAMP:20260424T155101
CREATED:20230130T181905Z
LAST-MODIFIED:20230130T182127Z
UID:3370-1675506600-1675517400@groupe-lirondenia.ch
SUMMARY:Animation Saint Ours Branson
DESCRIPTION:Venez danser avec nous ce samedi 4 février à Branson pour la fête de la Saint Ours \n
URL:https://groupe-lirondenia.ch/event/animation-saint-ours-branson/
END:VEVENT
END:VCALENDAR