BEGIN:VCALENDAR
VERSION:2.0
PRODID:-//Groupe Li Rondenia - Fully - ECPv4.9.12//NONSGML v1.0//EN
CALSCALE:GREGORIAN
METHOD:PUBLISH
X-WR-CALNAME:Groupe Li Rondenia - Fully
X-ORIGINAL-URL:https://groupe-lirondenia.ch
X-WR-CALDESC:Évènements pour Groupe Li Rondenia - Fully
BEGIN:VTIMEZONE
TZID:Europe/Zurich
BEGIN:DAYLIGHT
TZOFFSETFROM:+0100
TZOFFSETTO:+0200
TZNAME:CEST
DTSTART:20230326T010000
END:DAYLIGHT
BEGIN:STANDARD
TZOFFSETFROM:+0200
TZOFFSETTO:+0100
TZNAME:CET
DTSTART:20231029T010000
END:STANDARD
END:VTIMEZONE
BEGIN:VEVENT
DTSTART;TZID=Europe/Zurich:20230318T110000
DTEND;TZID=Europe/Zurich:20230318T150000
DTSTAMP:20260424T134256
CREATED:20230213T183847Z
LAST-MODIFIED:20230213T183854Z
UID:3374-1679137200-1679151600@groupe-lirondenia.ch
SUMMARY:Fête du four à Pain La Fontaine
DESCRIPTION:
URL:https://groupe-lirondenia.ch/event/fete-du-four-a-pain-la-fontaine/
END:VEVENT
END:VCALENDAR